BEGIN:VCALENDAR
PRODID://WordPress//Event-Post-V5.9.2//EN
VERSION:2.0
BEGIN:VTIMEZONE
TZID:America/New_York
BEGIN:DAYLIGHT
TZOFFSETFROM:+0100
TZOFFSETTO:-0400
DTSTART:19700329T020000
RRULE:FREQ=YEARLY;BYDAY=-1SU;BYMONTH=3
END:DAYLIGHT
BEGIN:STANDARD
TZOFFSETFROM:-0400
TZOFFSETTO:+0100
TZNAME:CET
DTSTART:19701025T030000
RRULE:FREQ=YEARLY;BYDAY=-1SU;BYMONTH=10
END:STANDARD
END:VTIMEZONE
BEGIN:VEVENT
SUMMARY:Schoharie County Model Railroad Association Train Show - May 9
UID:https://funtrak.net/2026/03/31/schoharie-county-model-railroad-association-train-show-may-9/
LOCATION:113, Sunshine Drive, Cobleskill, New York, 12043
DTSTAMP:20260509T090000
DTSTART;TZID=America/New_York:20260509T090000
DTEND;TZID=America/New_York:20260509T150000
DESCRIPTION:The last regional train show of the season!
Over 40 Train Vendor tables and featuring 4 operating layouts on display,
with HO, O, Standard Gauge and G scale models, in addition to our Railroad
Museum.
Admission:  $5.00, under 12 admitted free.Food Vendors and Free Parking
Contact:  John Bollentin (518) 768-1192, or John Valachovic (518) 965-2921
END:VEVENT
END:VCALENDAR